BEGIN:VCALENDAR
VERSION:2.0
PRODID:-//Telerik Inc.//NONSGML RadScheduler//EN
METHOD:PUBLISH
BEGIN:VEVENT
DTSTART:20230927T213000Z
DTEND:20230927T233000Z
UID:20231030T201719Z-
DTSTAMP:20231030T201719Z
LOCATION:8030 Deschutes Ct SE Tumwater WA 98501
SUMMARY:Jasmine & Wayne event
DESCRIPTION:You're invited to a fundraiser for Jasmine for Port and Wayne Fournier for County Commissioner\nPlease RSVP by clicking here\n\n&nbsp;
END:VEVENT
END:VCALENDAR
