BEGIN:VCALENDAR
VERSION:2.0
PRODID:-//Telerik Inc.//NONSGML RadScheduler//EN
METHOD:PUBLISH
BEGIN:VEVENT
DTSTART:20230811T210000Z
DTEND:20230812T000000Z
UID:20231030T201736Z-
DTSTAMP:20231030T201736Z
LOCATION:928 Wilson St NE Olympia WA 98506
SUMMARY:Jasmine for Port @ Urban Futures Farm!
DESCRIPTION:Click here to bring a potluck item!\nThis is a family-friendly event. Bring the whole crew!\n\n
END:VEVENT
END:VCALENDAR
