BEGIN:VCALENDAR
VERSION:2.0
PRODID:-//Telerik Inc.//NONSGML RadScheduler//EN
METHOD:PUBLISH
BEGIN:VEVENT
DTSTART:20230621T210000Z
DTEND:20230621T230000Z
UID:20231030T201754Z-
DTSTAMP:20231030T201754Z
LOCATION:800 Wilson St SE Olympia WA 98501
SUMMARY:Campaign Kickoff Celebration
DESCRIPTION:Join us for a campaign kickoff celebration in support of Jasmine Vasavada's candidacy for Port of Olympia Commissioner, District 1!\n\n&nbsp;
END:VEVENT
END:VCALENDAR
