BEGIN:VCALENDAR
VERSION:2.0
PRODID:-//Telerik Inc.//NONSGML RadScheduler//EN
METHOD:PUBLISH
BEGIN:VEVENT
DTSTART:20231012T200000Z
DTEND:20231012T220000Z
UID:20231030T201418Z-
DTSTAMP:20231030T201418Z
LOCATION:300 5th Ave. SW Olympia WA 98501
SUMMARY:Meet & Greet with Jasmine at New Traditions Fair Trade
DESCRIPTION:Come join us in downtown Olympia for a meet &amp; greet with your candidate, Jasmine Vasavada for Port of Olympia. Jasmine is meeting with downtown business owners, developers, and other interested parties to discuss the future of Olympia, economic development, and preserving the heritage of the city and port. Attendees are encouraged to bring their questions for Jasmine, and to meet an amazing candidate who has *all* of Olympia's interests at heart. Light refreshments will be provided, and we will be accepting donations to help get Jasmine elected in the upcoming general election on November 7th.\n
END:VEVENT
END:VCALENDAR
