BEGIN:VCALENDAR
VERSION:2.0
PRODID:-//Telerik Inc.//NONSGML RadScheduler//EN
METHOD:PUBLISH
BEGIN:VEVENT
DTSTART:20230716T140000Z
DTEND:20230716T170000Z
UID:20231030T201751Z-
DTSTAMP:20231030T201751Z
LOCATION:1029 Bigelow Ave NE Olympia WA 98506
SUMMARY:Doorbelling
DESCRIPTION:Add your event description here
END:VEVENT
END:VCALENDAR
